BEGIN:VCALENDAR
VERSION:2.0
PRODID:-//Cebu Club - ECPv6.15.18//NONSGML v1.0//EN
CALSCALE:GREGORIAN
METHOD:PUBLISH
X-ORIGINAL-URL:https://cebuzakynthos.gr
X-WR-CALDESC:Events for Cebu Club
REFRESH-INTERVAL;VALUE=DURATION:PT1H
X-Robots-Tag:noindex
X-PUBLISHED-TTL:PT1H
BEGIN:VTIMEZONE
TZID:Europe/Helsinki
BEGIN:DAYLIGHT
TZOFFSETFROM:+0200
TZOFFSETTO:+0300
TZNAME:EEST
DTSTART:20240331T010000
END:DAYLIGHT
BEGIN:STANDARD
TZOFFSETFROM:+0300
TZOFFSETTO:+0200
TZNAME:EET
DTSTART:20241027T010000
END:STANDARD
BEGIN:DAYLIGHT
TZOFFSETFROM:+0200
TZOFFSETTO:+0300
TZNAME:EEST
DTSTART:20250330T010000
END:DAYLIGHT
BEGIN:STANDARD
TZOFFSETFROM:+0300
TZOFFSETTO:+0200
TZNAME:EET
DTSTART:20251026T010000
END:STANDARD
BEGIN:DAYLIGHT
TZOFFSETFROM:+0200
TZOFFSETTO:+0300
TZNAME:EEST
DTSTART:20260329T010000
END:DAYLIGHT
BEGIN:STANDARD
TZOFFSETFROM:+0300
TZOFFSETTO:+0200
TZNAME:EET
DTSTART:20261025T010000
END:STANDARD
END:VTIMEZONE
BEGIN:VEVENT
DTSTART;TZID=Europe/Helsinki:20250712T233000
DTEND;TZID=Europe/Helsinki:20250713T050000
DTSTAMP:20260422T103807
CREATED:20250702T170836Z
LAST-MODIFIED:20260209T015837Z
UID:21706-1752363000-1752382800@cebuzakynthos.gr
SUMMARY:Hotspice The Party x Strat
DESCRIPTION:
URL:https://cebuzakynthos.gr/event/hotspice-the-party-x-strat/
LOCATION:Cebu Club Zakynthos\, Cebu Club\, Zakynthos\, 29100\, Greece
CATEGORIES:Hotspice
ATTACH;FMTTYPE=image/jpeg:https://cebuzakynthos.gr/wp-content/uploads/2025/07/viber_image_2025-07-02_20-08-17-991.jpg
END:VEVENT
END:VCALENDAR